BEGIN:VCALENDAR
VERSION:2.0
PRODID:-//Porte di Valtellina - ECPv6.15.20//NONSGML v1.0//EN
CALSCALE:GREGORIAN
METHOD:PUBLISH
X-ORIGINAL-URL:https://portedivaltellina.it
X-WR-CALDESC:Eventi per Porte di Valtellina
REFRESH-INTERVAL;VALUE=DURATION:PT1H
X-Robots-Tag:noindex
X-PUBLISHED-TTL:PT1H
BEGIN:VTIMEZONE
TZID:Europe/Rome
BEGIN:DAYLIGHT
TZOFFSETFROM:+0100
TZOFFSETTO:+0200
TZNAME:CEST
DTSTART:20240331T010000
END:DAYLIGHT
BEGIN:STANDARD
TZOFFSETFROM:+0200
TZOFFSETTO:+0100
TZNAME:CET
DTSTART:20241027T010000
END:STANDARD
BEGIN:DAYLIGHT
TZOFFSETFROM:+0100
TZOFFSETTO:+0200
TZNAME:CEST
DTSTART:20250330T010000
END:DAYLIGHT
BEGIN:STANDARD
TZOFFSETFROM:+0200
TZOFFSETTO:+0100
TZNAME:CET
DTSTART:20251026T010000
END:STANDARD
BEGIN:DAYLIGHT
TZOFFSETFROM:+0100
TZOFFSETTO:+0200
TZNAME:CEST
DTSTART:20260329T010000
END:DAYLIGHT
BEGIN:STANDARD
TZOFFSETFROM:+0200
TZOFFSETTO:+0100
TZNAME:CET
DTSTART:20261025T010000
END:STANDARD
END:VTIMEZONE
BEGIN:VEVENT
DTSTART;TZID=Europe/Rome:20251206T080000
DTEND;TZID=Europe/Rome:20251206T120000
DTSTAMP:20260423T235757
CREATED:20251029T135354Z
LAST-MODIFIED:20251029T135354Z
UID:10006859-1765008000-1765022400@portedivaltellina.it
SUMMARY:Movember
DESCRIPTION:In occasione del mese per la prevenzione sulle malattie tumorali maschili. \nTutti i sabati di novembre e sabato 6 dicembre test PSA gratuito presso la sede della CRI per uomini dai 49 ai 70 anni. \nPrenotazione obbligatoria al numero: 0342219413
URL:https://portedivaltellina.it/eventi/movember/2025-12-06/
LOCATION:Morbegno
END:VEVENT
BEGIN:VEVENT
DTSTART;TZID=Europe/Rome:20251129T170000
DTEND;TZID=Europe/Rome:20251129T190000
DTSTAMP:20260423T235757
CREATED:20251128T095307Z
LAST-MODIFIED:20251128T095307Z
UID:10007485-1764435600-1764442800@portedivaltellina.it
SUMMARY:Lettori da salotto
DESCRIPTION:La storia di Davide Ruffoni e dei suoi pezzotti. \nNe parlano con Davide l’autore del libro Paolo Mansolillo e il rappresentante dell’associazione “Cose Underground?” Lorenzo Zucchi. \nIngresso Libero fino a esaurimento posti.
URL:https://portedivaltellina.it/eventi/lettori-da-salotto-2/
LOCATION:Morbegno – Salotto Boffi\, Piazza S. Giovanni
END:VEVENT
BEGIN:VEVENT
DTSTART;TZID=Europe/Rome:20251129T153000
DTEND;TZID=Europe/Rome:20251129T193000
DTSTAMP:20260423T235757
CREATED:20251112T101413Z
LAST-MODIFIED:20251112T101413Z
UID:10006913-1764430200-1764444600@portedivaltellina.it
SUMMARY:Accendiamo l'albero
DESCRIPTION:In occasione dell’accensione dell’albero festeggiamo insieme l’arrivo del Natale\, con una sfiziosa merenda per tutti. Arrivo di Babbo Natale per la consegna delle letterine e regalini per tutti i bambini.  \nPROGRAMMA: \n\nDalle ore 15:30 Inizio evento\, laboratorio per bambini e spettacolo circense con i Fratelli Ochner.\nA seguire Accensione albero e arrivo di Babbo Natale con una sorpresa in compagnia del suo amico Grinch.\n\nInoltre\, dalle ore 15.30 alle ore 18.30 mercatini di Natale ed altre iniziative presso l’Oratorio. \nMaggiori informazioni: www.prolocomorbegno.it – info@prolocomorbegno.it \n 
URL:https://portedivaltellina.it/eventi/accendiamo-lalbero-3/
LOCATION:Morbegno
END:VEVENT
BEGIN:VEVENT
DTSTART;TZID=Europe/Rome:20251129T150000
DTEND;TZID=Europe/Rome:20251129T163000
DTSTAMP:20260423T235757
CREATED:20251019T102011Z
LAST-MODIFIED:20251019T102011Z
UID:10006829-1764428400-1764433800@portedivaltellina.it
SUMMARY:Aracno-simpatia
DESCRIPTION:Museo in famiglia \nAlla scoperta di ragni\, scorpioni\, opilioni e altri stranissimi aracnidi \nAttività su prenotazione per famiglie con bimbi dai 5 agli 11 anni. \nCosto € 3\,00 \nPrenotazioni entro le 16.00 di venerdì 28: www.museostorianaturale.it \nInfo: segreteriavevieventiaps@gmail.com – 338 1702694
URL:https://portedivaltellina.it/eventi/aracno-simpatia/
LOCATION:Morbegno – Museo Civico di Storia naturale\, Via Cortivacci\, 2\, Italia
END:VEVENT
BEGIN:VEVENT
DTSTART;TZID=Europe/Rome:20251129T080000
DTEND;TZID=Europe/Rome:20251129T120000
DTSTAMP:20260423T235757
CREATED:20251029T135354Z
LAST-MODIFIED:20251029T135354Z
UID:10006858-1764403200-1764417600@portedivaltellina.it
SUMMARY:Movember
DESCRIPTION:In occasione del mese per la prevenzione sulle malattie tumorali maschili. \nTutti i sabati di novembre e sabato 6 dicembre test PSA gratuito presso la sede della CRI per uomini dai 49 ai 70 anni. \nPrenotazione obbligatoria al numero: 0342219413
URL:https://portedivaltellina.it/eventi/movember/2025-11-29/
LOCATION:Morbegno
END:VEVENT
BEGIN:VEVENT
DTSTART;TZID=Europe/Rome:20251122T080000
DTEND;TZID=Europe/Rome:20251122T120000
DTSTAMP:20260423T235757
CREATED:20251029T135354Z
LAST-MODIFIED:20251029T135354Z
UID:10006857-1763798400-1763812800@portedivaltellina.it
SUMMARY:Movember
DESCRIPTION:In occasione del mese per la prevenzione sulle malattie tumorali maschili. \nTutti i sabati di novembre e sabato 6 dicembre test PSA gratuito presso la sede della CRI per uomini dai 49 ai 70 anni. \nPrenotazione obbligatoria al numero: 0342219413
URL:https://portedivaltellina.it/eventi/movember/2025-11-22/
LOCATION:Morbegno
END:VEVENT
BEGIN:VEVENT
DTSTART;TZID=Europe/Rome:20251115T080000
DTEND;TZID=Europe/Rome:20251115T120000
DTSTAMP:20260423T235757
CREATED:20251029T135354Z
LAST-MODIFIED:20251029T135354Z
UID:10006856-1763193600-1763208000@portedivaltellina.it
SUMMARY:Movember
DESCRIPTION:In occasione del mese per la prevenzione sulle malattie tumorali maschili. \nTutti i sabati di novembre e sabato 6 dicembre test PSA gratuito presso la sede della CRI per uomini dai 49 ai 70 anni. \nPrenotazione obbligatoria al numero: 0342219413
URL:https://portedivaltellina.it/eventi/movember/2025-11-15/
LOCATION:Morbegno
END:VEVENT
BEGIN:VEVENT
DTSTART;TZID=Europe/Rome:20251108T080000
DTEND;TZID=Europe/Rome:20251108T120000
DTSTAMP:20260423T235757
CREATED:20251029T135354Z
LAST-MODIFIED:20251029T135354Z
UID:10006855-1762588800-1762603200@portedivaltellina.it
SUMMARY:Movember
DESCRIPTION:In occasione del mese per la prevenzione sulle malattie tumorali maschili. \nTutti i sabati di novembre e sabato 6 dicembre test PSA gratuito presso la sede della CRI per uomini dai 49 ai 70 anni. \nPrenotazione obbligatoria al numero: 0342219413
URL:https://portedivaltellina.it/eventi/movember/2025-11-08/
LOCATION:Morbegno
END:VEVENT
END:VCALENDAR