BEGIN:VCALENDAR
VERSION:2.0
PRODID:-//Porte di Valtellina - ECPv6.15.20//NONSGML v1.0//EN
CALSCALE:GREGORIAN
METHOD:PUBLISH
X-WR-CALNAME:Porte di Valtellina
X-ORIGINAL-URL:https://portedivaltellina.it
X-WR-CALDESC:Eventi per Porte di Valtellina
REFRESH-INTERVAL;VALUE=DURATION:PT1H
X-Robots-Tag:noindex
X-PUBLISHED-TTL:PT1H
BEGIN:VTIMEZONE
TZID:Europe/Rome
BEGIN:DAYLIGHT
TZOFFSETFROM:+0100
TZOFFSETTO:+0200
TZNAME:CEST
DTSTART:20240331T010000
END:DAYLIGHT
BEGIN:STANDARD
TZOFFSETFROM:+0200
TZOFFSETTO:+0100
TZNAME:CET
DTSTART:20241027T010000
END:STANDARD
BEGIN:DAYLIGHT
TZOFFSETFROM:+0100
TZOFFSETTO:+0200
TZNAME:CEST
DTSTART:20250330T010000
END:DAYLIGHT
BEGIN:STANDARD
TZOFFSETFROM:+0200
TZOFFSETTO:+0100
TZNAME:CET
DTSTART:20251026T010000
END:STANDARD
BEGIN:DAYLIGHT
TZOFFSETFROM:+0100
TZOFFSETTO:+0200
TZNAME:CEST
DTSTART:20260329T010000
END:DAYLIGHT
BEGIN:STANDARD
TZOFFSETFROM:+0200
TZOFFSETTO:+0100
TZNAME:CET
DTSTART:20261025T010000
END:STANDARD
END:VTIMEZONE
BEGIN:VEVENT
DTSTART;VALUE=DATE:20250803
DTEND;VALUE=DATE:20250804
DTSTAMP:20260421T175205
CREATED:20250630T093134Z
LAST-MODIFIED:20250801T075939Z
UID:10006458-1754179200-1754265599@portedivaltellina.it
SUMMARY:Raduno degli alpini (rinviato al 3 agosto)
DESCRIPTION:Gruppo Alpini Dubino \n30° raduno in località “La Piazza” \n\nAlle ore 11.00 Santa Messa commemorativa\nAlle ore 12.30 Rancio Alpino\n\nLa giornata proseguirà in allegria con la “Fanfara Alto Lario” e canti popolari. \nPer tutta la giornata è previsto il servizio bar. \nDurante tutta la giornata sarà possibile ammirare l’esposizione di farfalle di David \nPer la giornata non è necessario il pass comunale. \n 
URL:https://portedivaltellina.it/eventi/raduno-degli-alpini/
LOCATION:Dubino –  Loc. La Piazza
END:VEVENT
BEGIN:VEVENT
DTSTART;TZID=Europe/Rome:20250803T100000
DTEND;TZID=Europe/Rome:20250803T170000
DTSTAMP:20260421T175205
CREATED:20250729T095849Z
LAST-MODIFIED:20250729T095849Z
UID:10006593-1754215200-1754240400@portedivaltellina.it
SUMMARY:Raduno degli Alpini
DESCRIPTION:Associazione Alpini Gruppo Civo-Dazio \nPROGRAMMA \n\nOre 10.00 al piazzale e sfilata al monumento con alza bandiera\nOre 11.00 Santa Messa\nOre 12.30 Tradizionale rancio all’aperto a base di polenta taragna\, salsicce\, porchetta\, salame\, formaggio e buon vino.\n\n 
URL:https://portedivaltellina.it/eventi/raduno-degli-alpini-2/
LOCATION:Civo – Poira
END:VEVENT
BEGIN:VEVENT
DTSTART;TZID=Europe/Rome:20250803T140000
DTEND;TZID=Europe/Rome:20250803T150000
DTSTAMP:20260421T175205
CREATED:20250617T151040Z
LAST-MODIFIED:20250730T123945Z
UID:10006412-1754229600-1754233200@portedivaltellina.it
SUMMARY:Morbegno la sera è viva
DESCRIPTION:Sostila\, villaggio medioevale \nVisita guidata gratuita della durata di circa un’ora a cura di Franco Mottalini. \nRitrovo presso la Chiesa di Sostila\, in occasione della festa della Madonna della Neve. \nMaggiori informazioni: info@forcolaweb.org – biblioteca@comune.morbegno.so.it – 0342 610323
URL:https://portedivaltellina.it/eventi/morbegno-la-sera-e-viva-28/
LOCATION:Forcola – Loc. Sostila\, Loc. Sostila\, Forcola\, 23010\, Italy
END:VEVENT
END:VCALENDAR