BEGIN:VCALENDAR
VERSION:2.0
PRODID:-//Porte di Valtellina - ECPv6.15.20//NONSGML v1.0//EN
CALSCALE:GREGORIAN
METHOD:PUBLISH
X-ORIGINAL-URL:https://portedivaltellina.it
X-WR-CALDESC:Eventi per Porte di Valtellina
REFRESH-INTERVAL;VALUE=DURATION:PT1H
X-Robots-Tag:noindex
X-PUBLISHED-TTL:PT1H
BEGIN:VTIMEZONE
TZID:Europe/Rome
BEGIN:DAYLIGHT
TZOFFSETFROM:+0100
TZOFFSETTO:+0200
TZNAME:CEST
DTSTART:20250330T010000
END:DAYLIGHT
BEGIN:STANDARD
TZOFFSETFROM:+0200
TZOFFSETTO:+0100
TZNAME:CET
DTSTART:20251026T010000
END:STANDARD
BEGIN:DAYLIGHT
TZOFFSETFROM:+0100
TZOFFSETTO:+0200
TZNAME:CEST
DTSTART:20260329T010000
END:DAYLIGHT
BEGIN:STANDARD
TZOFFSETFROM:+0200
TZOFFSETTO:+0100
TZNAME:CET
DTSTART:20261025T010000
END:STANDARD
BEGIN:DAYLIGHT
TZOFFSETFROM:+0100
TZOFFSETTO:+0200
TZNAME:CEST
DTSTART:20270328T010000
END:DAYLIGHT
BEGIN:STANDARD
TZOFFSETFROM:+0200
TZOFFSETTO:+0100
TZNAME:CET
DTSTART:20271031T010000
END:STANDARD
END:VTIMEZONE
BEGIN:VEVENT
DTSTART;TZID=Europe/Rome:20260103T180000
DTEND;TZID=Europe/Rome:20260103T200000
DTSTAMP:20260423T060939
CREATED:20251218T153856Z
LAST-MODIFIED:20251218T153856Z
UID:10007560-1767463200-1767470400@portedivaltellina.it
SUMMARY:Arriva la befana
DESCRIPTION:Programma: \nIl viaggio inizierà.. quando la befana col carretto arriverà…fra musica\, presepi e dolci sorprese…al polifunzionale si arriverà e un aperitivo si farà…e per finire in compagnia…la pizoccherata al Piccolo Paese in allegria. \nPer la pizzoccherata (pizzoccheri + 2 dolci + bere e caffè €17\,00 – ore 20:00) \nPrenotazione obbligatoria al 0342690224 fino a esaurimento posti
URL:https://portedivaltellina.it/eventi/arriva-la-befana-3/
LOCATION:Pedesina\, Pedesina\, 23010\, Italy
END:VEVENT
BEGIN:VEVENT
DTSTART;TZID=Europe/Rome:20260103T160000
DTEND;TZID=Europe/Rome:20260103T170000
DTSTAMP:20260423T060939
CREATED:20251227T084728Z
LAST-MODIFIED:20251227T084728Z
UID:10007570-1767456000-1767459600@portedivaltellina.it
SUMMARY:Poesie e musica sotto l'albero
DESCRIPTION:Laboratorio poetico \npomeriggio con musica e poesia a cura del Laboratorio poetico di EValtellina cultura e territorio \nIngresso libero e gratuito \nInfo: https://www.evaltellina.com/
URL:https://portedivaltellina.it/eventi/poesie-e-musica-sotto-lalbero/
LOCATION:Traona – Centro Polifunzionale – Fraz. La Valletta\, Via Palotta\, 116\, Traona\, 23019\, Italia
ORGANIZER;CN="Evaltellina":MAILTO:info@evaltellina.com
END:VEVENT
END:VCALENDAR