BEGIN:VCALENDAR
VERSION:2.0
PRODID:-//Porte di Valtellina - ECPv6.15.20//NONSGML v1.0//EN
CALSCALE:GREGORIAN
METHOD:PUBLISH
X-WR-CALNAME:Porte di Valtellina
X-ORIGINAL-URL:https://portedivaltellina.it
X-WR-CALDESC:Eventi per Porte di Valtellina
REFRESH-INTERVAL;VALUE=DURATION:PT1H
X-Robots-Tag:noindex
X-PUBLISHED-TTL:PT1H
BEGIN:VTIMEZONE
TZID:Europe/Rome
BEGIN:DAYLIGHT
TZOFFSETFROM:+0100
TZOFFSETTO:+0200
TZNAME:CEST
DTSTART:20250330T010000
END:DAYLIGHT
BEGIN:STANDARD
TZOFFSETFROM:+0200
TZOFFSETTO:+0100
TZNAME:CET
DTSTART:20251026T010000
END:STANDARD
BEGIN:DAYLIGHT
TZOFFSETFROM:+0100
TZOFFSETTO:+0200
TZNAME:CEST
DTSTART:20260329T010000
END:DAYLIGHT
BEGIN:STANDARD
TZOFFSETFROM:+0200
TZOFFSETTO:+0100
TZNAME:CET
DTSTART:20261025T010000
END:STANDARD
BEGIN:DAYLIGHT
TZOFFSETFROM:+0100
TZOFFSETTO:+0200
TZNAME:CEST
DTSTART:20270328T010000
END:DAYLIGHT
BEGIN:STANDARD
TZOFFSETFROM:+0200
TZOFFSETTO:+0100
TZNAME:CET
DTSTART:20271031T010000
END:STANDARD
END:VTIMEZONE
BEGIN:VEVENT
DTSTART;TZID=Europe/Rome:20260130T210000
DTEND;TZID=Europe/Rome:20260130T230000
DTSTAMP:20260423T102800
CREATED:20260116T144100Z
LAST-MODIFIED:20260116T144100Z
UID:10007611-1769806800-1769814000@portedivaltellina.it
SUMMARY:E quindi uscimmo a riveder le stelle
DESCRIPTION:Spettacolo teatrale \n…ad Adriana e Giuseppe\, a chi ha paura più che coraggio eppure ci prova… \nScritto ed interpretato da Viviana Sancassani e Daniela Vergani.  \nAl termine della serata piccolo rinfresco offerto dalla Fondazione Sansi\, a cura de I Prati. \nIngresso ad offerta libera \nL’incasso verrà devoluto alla fondazione Sansi Martino \nInfo: 0342 614587
URL:https://portedivaltellina.it/eventi/e-quindi-uscimmo-a-riveder-le-stelle/
LOCATION:Cosio Valt.no – Oratorio G.P. Frassati\, Fraz. Regoledo
END:VEVENT
BEGIN:VEVENT
DTSTART;TZID=Europe/Rome:20260130T203000
DTEND;TZID=Europe/Rome:20260130T220000
DTSTAMP:20260423T102800
CREATED:20260128T164428Z
LAST-MODIFIED:20260128T164428Z
UID:10007642-1769805000-1769810400@portedivaltellina.it
SUMMARY:Il fienile delle storie
DESCRIPTION:Sistema museale \nUna vecchia baita si prepara a rinascere come spazio di memoria e incontro. \nIl comune di Forcola invita tutta la comunità alla presentazione del progetto \nIngresso libero \n 
URL:https://portedivaltellina.it/eventi/il-fienile-delle-storie/
LOCATION:Sirta – Biblioteca comunale\, Via Vecchia\, 29\, Forcola
END:VEVENT
END:VCALENDAR