BEGIN:VCALENDAR
VERSION:2.0
PRODID:-//Porte di Valtellina - ECPv6.15.20//NONSGML v1.0//EN
CALSCALE:GREGORIAN
METHOD:PUBLISH
X-ORIGINAL-URL:https://portedivaltellina.it
X-WR-CALDESC:Eventi per Porte di Valtellina
REFRESH-INTERVAL;VALUE=DURATION:PT1H
X-Robots-Tag:noindex
X-PUBLISHED-TTL:PT1H
BEGIN:VTIMEZONE
TZID:Europe/Rome
BEGIN:DAYLIGHT
TZOFFSETFROM:+0100
TZOFFSETTO:+0200
TZNAME:CEST
DTSTART:20240331T010000
END:DAYLIGHT
BEGIN:STANDARD
TZOFFSETFROM:+0200
TZOFFSETTO:+0100
TZNAME:CET
DTSTART:20241027T010000
END:STANDARD
BEGIN:DAYLIGHT
TZOFFSETFROM:+0100
TZOFFSETTO:+0200
TZNAME:CEST
DTSTART:20250330T010000
END:DAYLIGHT
BEGIN:STANDARD
TZOFFSETFROM:+0200
TZOFFSETTO:+0100
TZNAME:CET
DTSTART:20251026T010000
END:STANDARD
BEGIN:DAYLIGHT
TZOFFSETFROM:+0100
TZOFFSETTO:+0200
TZNAME:CEST
DTSTART:20260329T010000
END:DAYLIGHT
BEGIN:STANDARD
TZOFFSETFROM:+0200
TZOFFSETTO:+0100
TZNAME:CET
DTSTART:20261025T010000
END:STANDARD
END:VTIMEZONE
BEGIN:VEVENT
DTSTART;TZID=Europe/Rome:20251130T113000
DTEND;TZID=Europe/Rome:20251130T143000
DTSTAMP:20260424T005509
CREATED:20251113T165117Z
LAST-MODIFIED:20251113T165117Z
UID:10006920-1764502200-1764513000@portedivaltellina.it
SUMMARY:Giornata Nazionale del Parkinson
DESCRIPTION:Pranzo e Show con Music & Friends \nSostienici con la tua presenza! \nPranzo + Spettacolo €20 \nPrenotati entro il 28 novembre: segreteriaparkinsondelebio@gmail.com  – Tel. 3758262504
URL:https://portedivaltellina.it/eventi/giornata-nazionale-del-parkinson/
LOCATION:Andalo Valtellino – Auditorium\, Via alla Chiesa\, 1\, Andalo Valtellino\, 23014\, Italia
ORGANIZER;CN="Associazione Parkinson Rino Gangemi":MAILTO:dellocazmox@hotmail.it
END:VEVENT
BEGIN:VEVENT
DTSTART;TZID=Europe/Rome:20251130T100000
DTEND;TZID=Europe/Rome:20251130T180000
DTSTAMP:20260424T005509
CREATED:20251118T082240Z
LAST-MODIFIED:20251118T082240Z
UID:10006932-1764496800-1764525600@portedivaltellina.it
SUMMARY:Mercatini di Natale
DESCRIPTION:1° Edizione dei Mercatini di Natale \nPer i più piccoli: Elfo\, animazione e gonfiabili \nPer tutti: Frittelle\, cioccolata calda e servizio bar \nPresso la Tensostruttura di Nuova Olonio\, Via Don L.Guanella. \n 
URL:https://portedivaltellina.it/eventi/mercatini-di-natale-2/
LOCATION:Tensostruttura – Nuova Olonio\, Dubino\, 23015\, Italia
END:VEVENT
BEGIN:VEVENT
DTSTART;TZID=Europe/Rome:20251130T093000
DTEND;TZID=Europe/Rome:20251130T173000
DTSTAMP:20260424T005509
CREATED:20251013T080219Z
LAST-MODIFIED:20251013T080219Z
UID:10006784-1764495000-1764523800@portedivaltellina.it
SUMMARY:Ardenno in festa
DESCRIPTION:Iscrizioni al mercatino di Natale  \nSei un hobbista? \nIscriviti al mercatino di Natale di Ardenno entro il 23 Novembre \nsi terrà Domenica 30 Novembre  dicembre  \n\nin Piazza Roma\ndalle 9.00 alle 17.30\n\nIn caso di maltempo la manifestazione si terrà sotto i portici della palazzina arancione in Via Libertà. \nInfo e iscrizioni: info@prolocoardennoaps.it – 346 7165256 – 333 2028095
URL:https://portedivaltellina.it/eventi/ardenno-in-festa-2/
LOCATION:Ardenno  – Piazza Roma
END:VEVENT
END:VCALENDAR