BEGIN:VCALENDAR
VERSION:2.0
PRODID:-//Porte di Valtellina - ECPv6.15.20//NONSGML v1.0//EN
CALSCALE:GREGORIAN
METHOD:PUBLISH
X-WR-CALNAME:Porte di Valtellina
X-ORIGINAL-URL:https://portedivaltellina.it
X-WR-CALDESC:Eventi per Porte di Valtellina
REFRESH-INTERVAL;VALUE=DURATION:PT1H
X-Robots-Tag:noindex
X-PUBLISHED-TTL:PT1H
BEGIN:VTIMEZONE
TZID:Europe/Rome
BEGIN:DAYLIGHT
TZOFFSETFROM:+0100
TZOFFSETTO:+0200
TZNAME:CEST
DTSTART:20250330T010000
END:DAYLIGHT
BEGIN:STANDARD
TZOFFSETFROM:+0200
TZOFFSETTO:+0100
TZNAME:CET
DTSTART:20251026T010000
END:STANDARD
BEGIN:DAYLIGHT
TZOFFSETFROM:+0100
TZOFFSETTO:+0200
TZNAME:CEST
DTSTART:20260329T010000
END:DAYLIGHT
BEGIN:STANDARD
TZOFFSETFROM:+0200
TZOFFSETTO:+0100
TZNAME:CET
DTSTART:20261025T010000
END:STANDARD
BEGIN:DAYLIGHT
TZOFFSETFROM:+0100
TZOFFSETTO:+0200
TZNAME:CEST
DTSTART:20270328T010000
END:DAYLIGHT
BEGIN:STANDARD
TZOFFSETFROM:+0200
TZOFFSETTO:+0100
TZNAME:CET
DTSTART:20271031T010000
END:STANDARD
END:VTIMEZONE
BEGIN:VEVENT
DTSTART;TZID=Europe/Rome:20260131T150000
DTEND;TZID=Europe/Rome:20260131T163000
DTSTAMP:20260423T102800
CREATED:20251229T084121Z
LAST-MODIFIED:20251229T084121Z
UID:10007578-1769871600-1769877000@portedivaltellina.it
SUMMARY:Carnevale bestiale
DESCRIPTION:Becchi lunghi\, corti\, strani…penne multicolori: quest’anno ci trasformiamo tutti in uccelli! \nAttività su prenotazione e a numero chiuso\, per famiglie con bambini da 5 a 11 anni – costo € 3 cadauno. \nInformazioni: segreteriaventiventiaps@gmail.com – 338 1702694 (wa). \nIscrizioni entro venerdì 30 gennaio\, ore 16:00: museostorianaturale.it
URL:https://portedivaltellina.it/eventi/carnevale-bestiale-2/
LOCATION:Morbegno – Museo Civico
END:VEVENT
BEGIN:VEVENT
DTSTART;TZID=Europe/Rome:20260131T103000
DTEND;TZID=Europe/Rome:20260131T113000
DTSTAMP:20260423T102800
CREATED:20260122T151801Z
LAST-MODIFIED:20260122T151801Z
UID:10007629-1769855400-1769859000@portedivaltellina.it
SUMMARY:Letture invernali
DESCRIPTION:Mattinata di letture per bambini  \nalla biblioteca di Delebio \nIngresso libero \nInfo: 0342 684564 – biblioteca.delebio@gmail.com \n 
URL:https://portedivaltellina.it/eventi/letture-invernali/
LOCATION:Delebio – Biblioteca Comunale
ORGANIZER;CN="Biblioteca di Delebio":MAILTO:biblioteca.delebio@gmail.com
END:VEVENT
END:VCALENDAR