BEGIN:VCALENDAR
VERSION:2.0
PRODID:-//Porte di Valtellina - ECPv6.15.20//NONSGML v1.0//EN
CALSCALE:GREGORIAN
METHOD:PUBLISH
X-WR-CALNAME:Porte di Valtellina
X-ORIGINAL-URL:https://portedivaltellina.it
X-WR-CALDESC:Eventi per Porte di Valtellina
REFRESH-INTERVAL;VALUE=DURATION:PT1H
X-Robots-Tag:noindex
X-PUBLISHED-TTL:PT1H
BEGIN:VTIMEZONE
TZID:Europe/Rome
BEGIN:DAYLIGHT
TZOFFSETFROM:+0100
TZOFFSETTO:+0200
TZNAME:CEST
DTSTART:20240331T010000
END:DAYLIGHT
BEGIN:STANDARD
TZOFFSETFROM:+0200
TZOFFSETTO:+0100
TZNAME:CET
DTSTART:20241027T010000
END:STANDARD
BEGIN:DAYLIGHT
TZOFFSETFROM:+0100
TZOFFSETTO:+0200
TZNAME:CEST
DTSTART:20250330T010000
END:DAYLIGHT
BEGIN:STANDARD
TZOFFSETFROM:+0200
TZOFFSETTO:+0100
TZNAME:CET
DTSTART:20251026T010000
END:STANDARD
BEGIN:DAYLIGHT
TZOFFSETFROM:+0100
TZOFFSETTO:+0200
TZNAME:CEST
DTSTART:20260329T010000
END:DAYLIGHT
BEGIN:STANDARD
TZOFFSETFROM:+0200
TZOFFSETTO:+0100
TZNAME:CET
DTSTART:20261025T010000
END:STANDARD
END:VTIMEZONE
BEGIN:VEVENT
DTSTART;TZID=Europe/Rome:20251102T090000
DTEND;TZID=Europe/Rome:20251102T120000
DTSTAMP:20260424T184939
CREATED:20251031T111813Z
LAST-MODIFIED:20251031T111813Z
UID:10006867-1762074000-1762084800@portedivaltellina.it
SUMMARY:Topolino
DESCRIPTION:Mostra dedicata alle storiche edizioni del fumetto “Topolino” pubblicate durante la Seconda guerra mondiale. \nPresso il Salotto Boffi a Morbegno\, Piazza S.Giovanni. \nPer maggiori info: Tel.0342 606211 \n  \n  \n 
URL:https://portedivaltellina.it/eventi/topolino/2025-11-02/
LOCATION:Morbegno – Salotto Boffi\, Piazza S. Giovanni
END:VEVENT
BEGIN:VEVENT
DTSTART;TZID=Europe/Rome:20251101T090000
DTEND;TZID=Europe/Rome:20251101T180000
DTSTAMP:20260424T184939
CREATED:20251031T111813Z
LAST-MODIFIED:20251031T111813Z
UID:10006866-1761987600-1762020000@portedivaltellina.it
SUMMARY:Topolino
DESCRIPTION:Mostra dedicata alle storiche edizioni del fumetto “Topolino” pubblicate durante la Seconda guerra mondiale. \nPresso il Salotto Boffi a Morbegno\, Piazza S.Giovanni. \nPer maggiori info: Tel.0342 606211 \n  \n  \n 
URL:https://portedivaltellina.it/eventi/topolino/2025-11-01/
LOCATION:Morbegno – Salotto Boffi\, Piazza S. Giovanni
END:VEVENT
BEGIN:VEVENT
DTSTART;TZID=Europe/Rome:20251031T201500
DTEND;TZID=Europe/Rome:20251031T220000
DTSTAMP:20260424T184939
CREATED:20251031T105443Z
LAST-MODIFIED:20251031T142825Z
UID:10006864-1761941700-1761948000@portedivaltellina.it
SUMMARY:Costituzione ai diciottenni
DESCRIPTION:Vivi la Città Alpina \nConsegna della Costituzione ai diciottenni. \nSaranno presenti: l’uomo jet Pietro Vitalini e l’atleta paralimpica Sofia Della Vedova. \nIncontro è aperto a tutti \nPer maggiori info: Tel. 0342 606211 \n  \n 
URL:https://portedivaltellina.it/eventi/costituzione-ai-diciottenni/
LOCATION:Morbegno – Auditorium Sant’Antonio
END:VEVENT
BEGIN:VEVENT
DTSTART;TZID=Europe/Rome:20251031T090000
DTEND;TZID=Europe/Rome:20251031T180000
DTSTAMP:20260424T184939
CREATED:20251031T111813Z
LAST-MODIFIED:20251031T111813Z
UID:10006865-1761901200-1761933600@portedivaltellina.it
SUMMARY:Topolino
DESCRIPTION:Mostra dedicata alle storiche edizioni del fumetto “Topolino” pubblicate durante la Seconda guerra mondiale. \nPresso il Salotto Boffi a Morbegno\, Piazza S.Giovanni. \nPer maggiori info: Tel.0342 606211 \n  \n  \n 
URL:https://portedivaltellina.it/eventi/topolino/2025-10-31/
LOCATION:Morbegno – Salotto Boffi\, Piazza S. Giovanni
END:VEVENT
BEGIN:VEVENT
DTSTART;TZID=Europe/Rome:20251031T090000
DTEND;TZID=Europe/Rome:20251031T120000
DTSTAMP:20260424T184939
CREATED:20251024T085755Z
LAST-MODIFIED:20251024T085755Z
UID:10006844-1761901200-1761912000@portedivaltellina.it
SUMMARY:Salone dell'Orientamento
DESCRIPTION:Evento dedicato all’orientamento scolastico \nUn’occasione per conoscere l’offerta formativa del territorio\, ricevere informazioni sui percorsi di studio e approfondire le opportunità di inserimento nel mondo del lavoro. \nMattinata per le scuole\, Ore 9.00 – 12.00: \n\nMercoledì 29 ottobre\nGiovedì 30 ottobre\nVenerdì 31 ottobre\n\nIncontro con le famiglie\, Ore 14.00 – 16.00 \n\nGiovedì 30 ottobre\n\n  \nPer maggiori info:  tel. 0342 531200  –  istruzione@provinciasondrio.it \n 
URL:https://portedivaltellina.it/eventi/salone-dellorientamento/2025-10-31/
LOCATION:Morbegno – Polo Fieristico\, Via Strada comunale di campagna\, 2
END:VEVENT
BEGIN:VEVENT
DTSTART;TZID=Europe/Rome:20251030T090000
DTEND;TZID=Europe/Rome:20251030T120000
DTSTAMP:20260424T184939
CREATED:20251024T085755Z
LAST-MODIFIED:20251024T085755Z
UID:10006843-1761814800-1761825600@portedivaltellina.it
SUMMARY:Salone dell'Orientamento
DESCRIPTION:Evento dedicato all’orientamento scolastico \nUn’occasione per conoscere l’offerta formativa del territorio\, ricevere informazioni sui percorsi di studio e approfondire le opportunità di inserimento nel mondo del lavoro. \nMattinata per le scuole\, Ore 9.00 – 12.00: \n\nMercoledì 29 ottobre\nGiovedì 30 ottobre\nVenerdì 31 ottobre\n\nIncontro con le famiglie\, Ore 14.00 – 16.00 \n\nGiovedì 30 ottobre\n\n  \nPer maggiori info:  tel. 0342 531200  –  istruzione@provinciasondrio.it \n 
URL:https://portedivaltellina.it/eventi/salone-dellorientamento/2025-10-30/
LOCATION:Morbegno – Polo Fieristico\, Via Strada comunale di campagna\, 2
END:VEVENT
BEGIN:VEVENT
DTSTART;TZID=Europe/Rome:20251029T090000
DTEND;TZID=Europe/Rome:20251029T120000
DTSTAMP:20260424T184939
CREATED:20251024T085755Z
LAST-MODIFIED:20251024T085755Z
UID:10006842-1761728400-1761739200@portedivaltellina.it
SUMMARY:Salone dell'Orientamento
DESCRIPTION:Evento dedicato all’orientamento scolastico \nUn’occasione per conoscere l’offerta formativa del territorio\, ricevere informazioni sui percorsi di studio e approfondire le opportunità di inserimento nel mondo del lavoro. \nMattinata per le scuole\, Ore 9.00 – 12.00: \n\nMercoledì 29 ottobre\nGiovedì 30 ottobre\nVenerdì 31 ottobre\n\nIncontro con le famiglie\, Ore 14.00 – 16.00 \n\nGiovedì 30 ottobre\n\n  \nPer maggiori info:  tel. 0342 531200  –  istruzione@provinciasondrio.it \n 
URL:https://portedivaltellina.it/eventi/salone-dellorientamento/2025-10-29/
LOCATION:Morbegno – Polo Fieristico\, Via Strada comunale di campagna\, 2
END:VEVENT
END:VCALENDAR