BEGIN:VCALENDAR
VERSION:2.0
PRODID:-//Porte di Valtellina - ECPv6.15.20//NONSGML v1.0//EN
CALSCALE:GREGORIAN
METHOD:PUBLISH
X-ORIGINAL-URL:https://portedivaltellina.it
X-WR-CALDESC:Eventi per Porte di Valtellina
REFRESH-INTERVAL;VALUE=DURATION:PT1H
X-Robots-Tag:noindex
X-PUBLISHED-TTL:PT1H
BEGIN:VTIMEZONE
TZID:Europe/Rome
BEGIN:DAYLIGHT
TZOFFSETFROM:+0100
TZOFFSETTO:+0200
TZNAME:CEST
DTSTART:20240331T010000
END:DAYLIGHT
BEGIN:STANDARD
TZOFFSETFROM:+0200
TZOFFSETTO:+0100
TZNAME:CET
DTSTART:20241027T010000
END:STANDARD
BEGIN:DAYLIGHT
TZOFFSETFROM:+0100
TZOFFSETTO:+0200
TZNAME:CEST
DTSTART:20250330T010000
END:DAYLIGHT
BEGIN:STANDARD
TZOFFSETFROM:+0200
TZOFFSETTO:+0100
TZNAME:CET
DTSTART:20251026T010000
END:STANDARD
BEGIN:DAYLIGHT
TZOFFSETFROM:+0100
TZOFFSETTO:+0200
TZNAME:CEST
DTSTART:20260329T010000
END:DAYLIGHT
BEGIN:STANDARD
TZOFFSETFROM:+0200
TZOFFSETTO:+0100
TZNAME:CET
DTSTART:20261025T010000
END:STANDARD
END:VTIMEZONE
BEGIN:VEVENT
DTSTART;TZID=Europe/Rome:20251212T180000
DTEND;TZID=Europe/Rome:20251212T193000
DTSTAMP:20260423T222016
CREATED:20251024T082327Z
LAST-MODIFIED:20251024T082327Z
UID:10006841-1765562400-1765567800@portedivaltellina.it
SUMMARY:Conoscere il passato creare futuro
DESCRIPTION:Un percorso di incontri per comprendere il presente attraverso la memoria del passato e costruire insieme uno sguardo verso il futuro. \nRelatori: tra cui Chiarelli\, Chiavacci\, Falcetti\, Lobefalo\, Osti\, Santamaria\, Schiumerini\, Zenoni. \nIscrizione necessaria entro domenica 5 ottobre \nPer info:  Antonio:  338 47 26 211 – Maria: 348 39 38 404 \nEmail: anpimorbegnobv@gmail.com
URL:https://portedivaltellina.it/eventi/conoscere-il-passato-creare-futuro/2025-12-12/
LOCATION:Morbegno – Casa delle associazioni\, Via Morelli
END:VEVENT
BEGIN:VEVENT
DTSTART;TZID=Europe/Rome:20251205T180000
DTEND;TZID=Europe/Rome:20251205T193000
DTSTAMP:20260423T222016
CREATED:20251024T082327Z
LAST-MODIFIED:20251024T082327Z
UID:10006840-1764957600-1764963000@portedivaltellina.it
SUMMARY:Conoscere il passato creare futuro
DESCRIPTION:Un percorso di incontri per comprendere il presente attraverso la memoria del passato e costruire insieme uno sguardo verso il futuro. \nRelatori: tra cui Chiarelli\, Chiavacci\, Falcetti\, Lobefalo\, Osti\, Santamaria\, Schiumerini\, Zenoni. \nIscrizione necessaria entro domenica 5 ottobre \nPer info:  Antonio:  338 47 26 211 – Maria: 348 39 38 404 \nEmail: anpimorbegnobv@gmail.com
URL:https://portedivaltellina.it/eventi/conoscere-il-passato-creare-futuro/2025-12-05/
LOCATION:Morbegno – Casa delle associazioni\, Via Morelli
END:VEVENT
BEGIN:VEVENT
DTSTART;TZID=Europe/Rome:20251205T170000
DTEND;TZID=Europe/Rome:20251205T180000
DTSTAMP:20260423T222016
CREATED:20251204T112406Z
LAST-MODIFIED:20251204T112406Z
UID:10007509-1764954000-1764957600@portedivaltellina.it
SUMMARY:Presepe a Morbegno
DESCRIPTION:Inaugurazione \nDalle ore 17.00 inaugurazione del tradizionale presepe \nin Piazza S. Antonio \n  \n 
URL:https://portedivaltellina.it/eventi/presepe-a-morbegno/
LOCATION:Morbegno – Palestra S. Antonio
END:VEVENT
BEGIN:VEVENT
DTSTART;TZID=Europe/Rome:20251121T180000
DTEND;TZID=Europe/Rome:20251121T193000
DTSTAMP:20260423T222016
CREATED:20251024T082327Z
LAST-MODIFIED:20251024T082327Z
UID:10006839-1763748000-1763753400@portedivaltellina.it
SUMMARY:Conoscere il passato creare futuro
DESCRIPTION:Un percorso di incontri per comprendere il presente attraverso la memoria del passato e costruire insieme uno sguardo verso il futuro. \nRelatori: tra cui Chiarelli\, Chiavacci\, Falcetti\, Lobefalo\, Osti\, Santamaria\, Schiumerini\, Zenoni. \nIscrizione necessaria entro domenica 5 ottobre \nPer info:  Antonio:  338 47 26 211 – Maria: 348 39 38 404 \nEmail: anpimorbegnobv@gmail.com
URL:https://portedivaltellina.it/eventi/conoscere-il-passato-creare-futuro/2025-11-21/
LOCATION:Morbegno – Casa delle associazioni\, Via Morelli
END:VEVENT
BEGIN:VEVENT
DTSTART;TZID=Europe/Rome:20251107T180000
DTEND;TZID=Europe/Rome:20251107T193000
DTSTAMP:20260423T222016
CREATED:20251024T082327Z
LAST-MODIFIED:20251024T082327Z
UID:10006838-1762538400-1762543800@portedivaltellina.it
SUMMARY:Conoscere il passato creare futuro
DESCRIPTION:Un percorso di incontri per comprendere il presente attraverso la memoria del passato e costruire insieme uno sguardo verso il futuro. \nRelatori: tra cui Chiarelli\, Chiavacci\, Falcetti\, Lobefalo\, Osti\, Santamaria\, Schiumerini\, Zenoni. \nIscrizione necessaria entro domenica 5 ottobre \nPer info:  Antonio:  338 47 26 211 – Maria: 348 39 38 404 \nEmail: anpimorbegnobv@gmail.com
URL:https://portedivaltellina.it/eventi/conoscere-il-passato-creare-futuro/2025-11-07/
LOCATION:Morbegno – Casa delle associazioni\, Via Morelli
END:VEVENT
BEGIN:VEVENT
DTSTART;TZID=Europe/Rome:20251024T180000
DTEND;TZID=Europe/Rome:20251024T193000
DTSTAMP:20260423T222016
CREATED:20251024T082327Z
LAST-MODIFIED:20251024T082327Z
UID:10006837-1761328800-1761334200@portedivaltellina.it
SUMMARY:Conoscere il passato creare futuro
DESCRIPTION:Un percorso di incontri per comprendere il presente attraverso la memoria del passato e costruire insieme uno sguardo verso il futuro. \nRelatori: tra cui Chiarelli\, Chiavacci\, Falcetti\, Lobefalo\, Osti\, Santamaria\, Schiumerini\, Zenoni. \nIscrizione necessaria entro domenica 5 ottobre \nPer info:  Antonio:  338 47 26 211 – Maria: 348 39 38 404 \nEmail: anpimorbegnobv@gmail.com
URL:https://portedivaltellina.it/eventi/conoscere-il-passato-creare-futuro/2025-10-24/
LOCATION:Morbegno – Casa delle associazioni\, Via Morelli
END:VEVENT
END:VCALENDAR