BEGIN:VCALENDAR
VERSION:2.0
PRODID:-//Porte di Valtellina - ECPv6.15.20//NONSGML v1.0//EN
CALSCALE:GREGORIAN
METHOD:PUBLISH
X-ORIGINAL-URL:https://portedivaltellina.it
X-WR-CALDESC:Eventi per Porte di Valtellina
REFRESH-INTERVAL;VALUE=DURATION:PT1H
X-Robots-Tag:noindex
X-PUBLISHED-TTL:PT1H
BEGIN:VTIMEZONE
TZID:Europe/Rome
BEGIN:DAYLIGHT
TZOFFSETFROM:+0100
TZOFFSETTO:+0200
TZNAME:CEST
DTSTART:20250330T010000
END:DAYLIGHT
BEGIN:STANDARD
TZOFFSETFROM:+0200
TZOFFSETTO:+0100
TZNAME:CET
DTSTART:20251026T010000
END:STANDARD
BEGIN:DAYLIGHT
TZOFFSETFROM:+0100
TZOFFSETTO:+0200
TZNAME:CEST
DTSTART:20260329T010000
END:DAYLIGHT
BEGIN:STANDARD
TZOFFSETFROM:+0200
TZOFFSETTO:+0100
TZNAME:CET
DTSTART:20261025T010000
END:STANDARD
BEGIN:DAYLIGHT
TZOFFSETFROM:+0100
TZOFFSETTO:+0200
TZNAME:CEST
DTSTART:20270328T010000
END:DAYLIGHT
BEGIN:STANDARD
TZOFFSETFROM:+0200
TZOFFSETTO:+0100
TZNAME:CET
DTSTART:20271031T010000
END:STANDARD
END:VTIMEZONE
BEGIN:VEVENT
DTSTART;TZID=Europe/Rome:20260506T143000
DTEND;TZID=Europe/Rome:20260506T183000
DTSTAMP:20260423T192705
CREATED:20260422T102203Z
LAST-MODIFIED:20260422T130619Z
UID:10008123-1778077800-1778092200@portedivaltellina.it
SUMMARY:MelloLab
DESCRIPTION:Avvicinare i più giovani alla montagna partendo dal gioco! \nGrazie a MelloLab\, bambini e ragazzi della scuola primaria e secondaria di primo grado potranno cimentarsi nell’arrampicata in modo semplice\, divertente e sicuro! \nPROGRAMMA \n\nDalle ore 14.30 alle ore 16.30 la sessione dedicata ai ragazzi della scuola secondaria di primo grado\nDalle ore 16.30 alle ore 18.30 la sessione dedicata ai bambini della scuola primaria\n\nSul granito della Val Masino\, con le Guide Alpine Davide Spini e Raffaele Tangari. \nPer iscriversi compilare e inviare il modulo scaricabile QUI all’indirizzo info@melloblocco.it\, per un massimo di 20 posti a sessione.
URL:https://portedivaltellina.it/eventi/mellolab-2/
LOCATION:Val Masino
ATTACH;FMTTYPE=image/jpeg:https://portedivaltellina.it/wp-content/uploads/2026/04/Mellolab.jpg
END:VEVENT
END:VCALENDAR