BEGIN:VCALENDAR
VERSION:2.0
PRODID:-//Porte di Valtellina - ECPv6.15.20//NONSGML v1.0//EN
CALSCALE:GREGORIAN
METHOD:PUBLISH
X-ORIGINAL-URL:https://portedivaltellina.it
X-WR-CALDESC:Eventi per Porte di Valtellina
REFRESH-INTERVAL;VALUE=DURATION:PT1H
X-Robots-Tag:noindex
X-PUBLISHED-TTL:PT1H
BEGIN:VTIMEZONE
TZID:Europe/Rome
BEGIN:DAYLIGHT
TZOFFSETFROM:+0100
TZOFFSETTO:+0200
TZNAME:CEST
DTSTART:20240331T010000
END:DAYLIGHT
BEGIN:STANDARD
TZOFFSETFROM:+0200
TZOFFSETTO:+0100
TZNAME:CET
DTSTART:20241027T010000
END:STANDARD
BEGIN:DAYLIGHT
TZOFFSETFROM:+0100
TZOFFSETTO:+0200
TZNAME:CEST
DTSTART:20250330T010000
END:DAYLIGHT
BEGIN:STANDARD
TZOFFSETFROM:+0200
TZOFFSETTO:+0100
TZNAME:CET
DTSTART:20251026T010000
END:STANDARD
BEGIN:DAYLIGHT
TZOFFSETFROM:+0100
TZOFFSETTO:+0200
TZNAME:CEST
DTSTART:20260329T010000
END:DAYLIGHT
BEGIN:STANDARD
TZOFFSETFROM:+0200
TZOFFSETTO:+0100
TZNAME:CET
DTSTART:20261025T010000
END:STANDARD
END:VTIMEZONE
BEGIN:VEVENT
DTSTART;TZID=Europe/Rome:20251208T160000
DTEND;TZID=Europe/Rome:20251208T190000
DTSTAMP:20260424T035234
CREATED:20251201T100628Z
LAST-MODIFIED:20251201T100628Z
UID:10007497-1765209600-1765220400@portedivaltellina.it
SUMMARY:Accensione dell'Albero di Natale
DESCRIPTION:PROGRAMMA \n\nDalle ore 16 tombolata e merenda per i bambini nella sede della Pro Loco\nDalle ore 17.30 accensione dell’Albero di Natale e consegna delle letterine\, quindi apertura ufficiale del GiraPresepi\n\nMaggiori informazioni: info@prolocoforcola.it – +39 333 4135413
URL:https://portedivaltellina.it/eventi/accensione-dellalbero-di-natale-3/
LOCATION:Forcola – Fraz. Sirta\, Chiesa parrocchiale di San Giuseppe
END:VEVENT
BEGIN:VEVENT
DTSTART;TZID=Europe/Rome:20251208T140000
DTEND;TZID=Europe/Rome:20251208T180000
DTSTAMP:20260424T035234
CREATED:20251121T104900Z
LAST-MODIFIED:20251121T104900Z
UID:10007463-1765202400-1765216800@portedivaltellina.it
SUMMARY:Inaugurazione Natale nel Borgo
DESCRIPTION:Ritrovo al Salòt di Barilocc: scopri il fascino del “Salotto degli Elfi”\, poi lasciati guidare in carovana lungo il borgo\, dove i presepi si sveleranno uno dopo l’altro raccontando la magia del Natale. \nAd allietare la giornata la Corale E. Bossi di Morbegno con “sulla scia della cometa”. \nMaggiori informazioni: apsalbaredopromotion@libero.it
URL:https://portedivaltellina.it/eventi/inaugurazione-natale-nel-borgo/
LOCATION:Albaredo per San Marco\, Ul Salòt di Bariloc'
ORGANIZER;CN="APS Albaredo Promotion":MAILTO:apsalbaredopromotion@libero.it
END:VEVENT
BEGIN:VEVENT
DTSTART;TZID=Europe/Rome:20251208T133000
DTEND;TZID=Europe/Rome:20251208T180000
DTSTAMP:20260424T035234
CREATED:20251125T161011Z
LAST-MODIFIED:20251125T161011Z
UID:10007476-1765200600-1765216800@portedivaltellina.it
SUMMARY:Christmas Running
DESCRIPTION:Corsa – Camminata di 5 KM a ritmo libero per le vie del paese. \nRitrovo ore 13:30 / Partenza ore 14:30 \nVillaggio di Babbo Natale\, foto ricordo\, merenda\, Vin Brulè\, Caccia al tesoro “Escape Christmas”\, musica e animazione per tutti. \nIndossa qualcosa di ROSSO per una giornata in allegria. \nIscrizioni: – Bambini fino a 14 anni: €5\,00  -Ragazzi/Adulti: €10\,00 \nIl Ricavato andrà in Beneficenza \nInfo: Tel. 3398098531
URL:https://portedivaltellina.it/eventi/christmas-running-3/
LOCATION:Talamona – Polifunzionale
END:VEVENT
BEGIN:VEVENT
DTSTART;TZID=Europe/Rome:20251108T193000
DTEND;TZID=Europe/Rome:20251108T220000
DTSTAMP:20260424T035234
CREATED:20251013T082145Z
LAST-MODIFIED:20251013T082145Z
UID:10006785-1762630200-1762639200@portedivaltellina.it
SUMMARY:Sagra della trota
DESCRIPTION:Cena su prenotazione \ncon menu fisso per tutti: \n\nTrota in carpione e crostino con trota affumicata\nRiso con trota affumicata\nTrota con erbette al forno e patatine\nCrostata della nonna\nVino acqua e caffè\n\nSolo su prenotazione entro il 24 ottobre \nPrenotazioni: Ass. Capifamiglia Vincenzo 339 2424008 – Tiziana 339 7762010
URL:https://portedivaltellina.it/eventi/sagra-della-trota/
LOCATION:Val Masino – Cataeggio
END:VEVENT
END:VCALENDAR