BEGIN:VCALENDAR
VERSION:2.0
PRODID:-//Porte di Valtellina - ECPv6.15.20//NONSGML v1.0//EN
CALSCALE:GREGORIAN
METHOD:PUBLISH
X-ORIGINAL-URL:https://portedivaltellina.it
X-WR-CALDESC:Eventi per Porte di Valtellina
REFRESH-INTERVAL;VALUE=DURATION:PT1H
X-Robots-Tag:noindex
X-PUBLISHED-TTL:PT1H
BEGIN:VTIMEZONE
TZID:Europe/Rome
BEGIN:DAYLIGHT
TZOFFSETFROM:+0100
TZOFFSETTO:+0200
TZNAME:CEST
DTSTART:20240331T010000
END:DAYLIGHT
BEGIN:STANDARD
TZOFFSETFROM:+0200
TZOFFSETTO:+0100
TZNAME:CET
DTSTART:20241027T010000
END:STANDARD
BEGIN:DAYLIGHT
TZOFFSETFROM:+0100
TZOFFSETTO:+0200
TZNAME:CEST
DTSTART:20250330T010000
END:DAYLIGHT
BEGIN:STANDARD
TZOFFSETFROM:+0200
TZOFFSETTO:+0100
TZNAME:CET
DTSTART:20251026T010000
END:STANDARD
BEGIN:DAYLIGHT
TZOFFSETFROM:+0100
TZOFFSETTO:+0200
TZNAME:CEST
DTSTART:20260329T010000
END:DAYLIGHT
BEGIN:STANDARD
TZOFFSETFROM:+0200
TZOFFSETTO:+0100
TZNAME:CET
DTSTART:20261025T010000
END:STANDARD
END:VTIMEZONE
BEGIN:VEVENT
DTSTART;TZID=Europe/Rome:20251114T103000
DTEND;TZID=Europe/Rome:20251116T190000
DTSTAMP:20260423T223538
CREATED:20251024T135553Z
LAST-MODIFIED:20251024T135553Z
UID:10006846-1763116200-1763319600@portedivaltellina.it
SUMMARY:Fiera d’Autunno
DESCRIPTION:Fiera campionaria  \nStand di artigianato\, enogastronomia\, benessere\, arredo\, abbigliamento. \nInoltre area bimbi con gonfiabili e animazione\, aree ristoro \nVenerdì ingresso gratuito \nApertura: \n\nVenerdì e sabato 10.30/20.00\nDomenica 10.30/19.00\n\n Info: www.fieradiautunno.com
URL:https://portedivaltellina.it/eventi/fiera-dautunno-2/
LOCATION:Morbegno – Polo Fieristico\, Via Strada comunale di campagna\, 2
END:VEVENT
END:VCALENDAR