BEGIN:VCALENDAR
VERSION:2.0
PRODID:-//Porte di Valtellina - ECPv6.15.20//NONSGML v1.0//EN
CALSCALE:GREGORIAN
METHOD:PUBLISH
X-ORIGINAL-URL:https://portedivaltellina.it
X-WR-CALDESC:Eventi per Porte di Valtellina
REFRESH-INTERVAL;VALUE=DURATION:PT1H
X-Robots-Tag:noindex
X-PUBLISHED-TTL:PT1H
BEGIN:VTIMEZONE
TZID:Europe/Rome
BEGIN:DAYLIGHT
TZOFFSETFROM:+0100
TZOFFSETTO:+0200
TZNAME:CEST
DTSTART:20250330T010000
END:DAYLIGHT
BEGIN:STANDARD
TZOFFSETFROM:+0200
TZOFFSETTO:+0100
TZNAME:CET
DTSTART:20251026T010000
END:STANDARD
BEGIN:DAYLIGHT
TZOFFSETFROM:+0100
TZOFFSETTO:+0200
TZNAME:CEST
DTSTART:20260329T010000
END:DAYLIGHT
BEGIN:STANDARD
TZOFFSETFROM:+0200
TZOFFSETTO:+0100
TZNAME:CET
DTSTART:20261025T010000
END:STANDARD
BEGIN:DAYLIGHT
TZOFFSETFROM:+0100
TZOFFSETTO:+0200
TZNAME:CEST
DTSTART:20270328T010000
END:DAYLIGHT
BEGIN:STANDARD
TZOFFSETFROM:+0200
TZOFFSETTO:+0100
TZNAME:CET
DTSTART:20271031T010000
END:STANDARD
END:VTIMEZONE
BEGIN:VEVENT
DTSTART;TZID=Europe/Rome:20260124T140000
DTEND;TZID=Europe/Rome:20260127T170000
DTSTAMP:20260423T085910
CREATED:20260115T103727Z
LAST-MODIFIED:20260115T103727Z
UID:10007603-1769263200-1769533200@portedivaltellina.it
SUMMARY:Lettere dai campi di prigionia
DESCRIPTION:Mostra collezionistica \nLettere dai campi di prigionia della seconda guerra mondiale \nSabato 24 ore 15.00 \n\nInaugurazione con visita guidata della mostra\n\nIngresso gratuito \nInfo: www.evantellina.com
URL:https://portedivaltellina.it/eventi/lettere-dai-campi-di-prigionia/
LOCATION:Piantedo – Oratorio\, Via Europa\, 140
ORGANIZER;CN="Evaltellina":MAILTO:info@evaltellina.com
END:VEVENT
END:VCALENDAR