BEGIN:VCALENDAR
VERSION:2.0
PRODID:-//Porte di Valtellina - ECPv6.15.20//NONSGML v1.0//EN
CALSCALE:GREGORIAN
METHOD:PUBLISH
X-ORIGINAL-URL:https://portedivaltellina.it
X-WR-CALDESC:Eventi per Porte di Valtellina
REFRESH-INTERVAL;VALUE=DURATION:PT1H
X-Robots-Tag:noindex
X-PUBLISHED-TTL:PT1H
BEGIN:VTIMEZONE
TZID:Europe/Rome
BEGIN:DAYLIGHT
TZOFFSETFROM:+0100
TZOFFSETTO:+0200
TZNAME:CEST
DTSTART:20240331T010000
END:DAYLIGHT
BEGIN:STANDARD
TZOFFSETFROM:+0200
TZOFFSETTO:+0100
TZNAME:CET
DTSTART:20241027T010000
END:STANDARD
BEGIN:DAYLIGHT
TZOFFSETFROM:+0100
TZOFFSETTO:+0200
TZNAME:CEST
DTSTART:20250330T010000
END:DAYLIGHT
BEGIN:STANDARD
TZOFFSETFROM:+0200
TZOFFSETTO:+0100
TZNAME:CET
DTSTART:20251026T010000
END:STANDARD
BEGIN:DAYLIGHT
TZOFFSETFROM:+0100
TZOFFSETTO:+0200
TZNAME:CEST
DTSTART:20260329T010000
END:DAYLIGHT
BEGIN:STANDARD
TZOFFSETFROM:+0200
TZOFFSETTO:+0100
TZNAME:CET
DTSTART:20261025T010000
END:STANDARD
BEGIN:DAYLIGHT
TZOFFSETFROM:+0100
TZOFFSETTO:+0200
TZNAME:CEST
DTSTART:20270328T010000
END:DAYLIGHT
BEGIN:STANDARD
TZOFFSETFROM:+0200
TZOFFSETTO:+0100
TZNAME:CET
DTSTART:20271031T010000
END:STANDARD
END:VTIMEZONE
BEGIN:VEVENT
DTSTART;TZID=Europe/Rome:20260318T141500
DTEND;TZID=Europe/Rome:20260318T170000
DTSTAMP:20260423T102909
CREATED:20260304T140136Z
LAST-MODIFIED:20260304T140136Z
UID:10007969-1773843300-1773853200@portedivaltellina.it
SUMMARY:Pomeriggio col medico
DESCRIPTION:Incontro con il Dr. Stefano Giustiniani \nmedico\, cardiologo\, internista e geriatra che parlerà delle più comuni malattie del sistema immunitario a carico del sistema nervoso\, pancreas\, tiroide\, ecc \nVisto l’argomento molto vasto e di notevole interesse\, siete tutti inviati a partecipare e porre domande al medico \nInfo: Comune di Cosio V. 0342 634111
URL:https://portedivaltellina.it/eventi/pomeriggio-col-medico/
LOCATION:Cosio Valt.no – Oratorio G.P. Frassati\, Fraz. Regoledo
END:VEVENT
BEGIN:VEVENT
DTSTART;TZID=Europe/Rome:20260130T210000
DTEND;TZID=Europe/Rome:20260130T230000
DTSTAMP:20260423T102909
CREATED:20260116T144100Z
LAST-MODIFIED:20260116T144100Z
UID:10007611-1769806800-1769814000@portedivaltellina.it
SUMMARY:E quindi uscimmo a riveder le stelle
DESCRIPTION:Spettacolo teatrale \n…ad Adriana e Giuseppe\, a chi ha paura più che coraggio eppure ci prova… \nScritto ed interpretato da Viviana Sancassani e Daniela Vergani.  \nAl termine della serata piccolo rinfresco offerto dalla Fondazione Sansi\, a cura de I Prati. \nIngresso ad offerta libera \nL’incasso verrà devoluto alla fondazione Sansi Martino \nInfo: 0342 614587
URL:https://portedivaltellina.it/eventi/e-quindi-uscimmo-a-riveder-le-stelle/
LOCATION:Cosio Valt.no – Oratorio G.P. Frassati\, Fraz. Regoledo
END:VEVENT
BEGIN:VEVENT
DTSTART;TZID=Europe/Rome:20250509T210000
DTEND;TZID=Europe/Rome:20250509T223000
DTSTAMP:20260423T102909
CREATED:20250411T073728Z
LAST-MODIFIED:20250411T073749Z
UID:10006107-1746824400-1746829800@portedivaltellina.it
SUMMARY:Degustazione Rosati
DESCRIPTION:Serata di degustazione e confronto di vini rosati \nCosto € 35\,00 \nIl ricavato sarà devoluto al Progetto Pro Tetto dell’oratorio Frassati \nPrenotazione obbligatoria fino ad esaurimento posti\, entro il 5 maggio. \nInfo e prenotazioni: Giovanni 338 9360172
URL:https://portedivaltellina.it/eventi/degustazione-rosati/
LOCATION:Cosio Valt.no – Oratorio G.P. Frassati\, Fraz. Regoledo
END:VEVENT
END:VCALENDAR