BEGIN:VCALENDAR
VERSION:2.0
PRODID:-//Porte di Valtellina - ECPv6.15.20//NONSGML v1.0//EN
CALSCALE:GREGORIAN
METHOD:PUBLISH
X-ORIGINAL-URL:https://portedivaltellina.it
X-WR-CALDESC:Eventi per Porte di Valtellina
REFRESH-INTERVAL;VALUE=DURATION:PT1H
X-Robots-Tag:noindex
X-PUBLISHED-TTL:PT1H
BEGIN:VTIMEZONE
TZID:Europe/Rome
BEGIN:DAYLIGHT
TZOFFSETFROM:+0100
TZOFFSETTO:+0200
TZNAME:CEST
DTSTART:20240331T010000
END:DAYLIGHT
BEGIN:STANDARD
TZOFFSETFROM:+0200
TZOFFSETTO:+0100
TZNAME:CET
DTSTART:20241027T010000
END:STANDARD
BEGIN:DAYLIGHT
TZOFFSETFROM:+0100
TZOFFSETTO:+0200
TZNAME:CEST
DTSTART:20250330T010000
END:DAYLIGHT
BEGIN:STANDARD
TZOFFSETFROM:+0200
TZOFFSETTO:+0100
TZNAME:CET
DTSTART:20251026T010000
END:STANDARD
BEGIN:DAYLIGHT
TZOFFSETFROM:+0100
TZOFFSETTO:+0200
TZNAME:CEST
DTSTART:20260329T010000
END:DAYLIGHT
BEGIN:STANDARD
TZOFFSETFROM:+0200
TZOFFSETTO:+0100
TZNAME:CET
DTSTART:20261025T010000
END:STANDARD
END:VTIMEZONE
BEGIN:VEVENT
DTSTART;TZID=Europe/Rome:20251125T203000
DTEND;TZID=Europe/Rome:20251125T213000
DTSTAMP:20260423T234453
CREATED:20251122T095845Z
LAST-MODIFIED:20251122T095845Z
UID:10007471-1764102600-1764106200@portedivaltellina.it
SUMMARY:Cani\, gatti ed esotici
DESCRIPTION:Lezione di primo soccorso \naperta a tutti  presso la Sala civica del Comune – Via Spluga – Nuova Olonio \nIngresso libero \nÉ gradita l’offerta a sostegno del quotidiano impegno di ENPA ODV\, sezione provinciale di Sondrio\, verso gli animali in difficoltà \nInfo: ENPA Sondrio 338 715 3141 – www.enpasondrio.it
URL:https://portedivaltellina.it/eventi/cani-gatti-ed-esotici/
LOCATION:Dubino – Fraz. Nuova Olonio
END:VEVENT
END:VCALENDAR