BEGIN:VCALENDAR
VERSION:2.0
PRODID:-//Porte di Valtellina - ECPv6.15.20//NONSGML v1.0//EN
CALSCALE:GREGORIAN
METHOD:PUBLISH
X-WR-CALNAME:Porte di Valtellina
X-ORIGINAL-URL:https://portedivaltellina.it
X-WR-CALDESC:Eventi per Porte di Valtellina
REFRESH-INTERVAL;VALUE=DURATION:PT1H
X-Robots-Tag:noindex
X-PUBLISHED-TTL:PT1H
BEGIN:VTIMEZONE
TZID:Europe/Rome
BEGIN:DAYLIGHT
TZOFFSETFROM:+0100
TZOFFSETTO:+0200
TZNAME:CEST
DTSTART:20240331T010000
END:DAYLIGHT
BEGIN:STANDARD
TZOFFSETFROM:+0200
TZOFFSETTO:+0100
TZNAME:CET
DTSTART:20241027T010000
END:STANDARD
BEGIN:DAYLIGHT
TZOFFSETFROM:+0100
TZOFFSETTO:+0200
TZNAME:CEST
DTSTART:20250330T010000
END:DAYLIGHT
BEGIN:STANDARD
TZOFFSETFROM:+0200
TZOFFSETTO:+0100
TZNAME:CET
DTSTART:20251026T010000
END:STANDARD
BEGIN:DAYLIGHT
TZOFFSETFROM:+0100
TZOFFSETTO:+0200
TZNAME:CEST
DTSTART:20260329T010000
END:DAYLIGHT
BEGIN:STANDARD
TZOFFSETFROM:+0200
TZOFFSETTO:+0100
TZNAME:CET
DTSTART:20261025T010000
END:STANDARD
BEGIN:DAYLIGHT
TZOFFSETFROM:+0100
TZOFFSETTO:+0200
TZNAME:CEST
DTSTART:20270328T010000
END:DAYLIGHT
BEGIN:STANDARD
TZOFFSETFROM:+0200
TZOFFSETTO:+0100
TZNAME:CET
DTSTART:20271031T010000
END:STANDARD
END:VTIMEZONE
BEGIN:VEVENT
DTSTART;VALUE=DATE:20260418
DTEND;VALUE=DATE:20260420
DTSTAMP:20260423T210431
CREATED:20260206T075435Z
LAST-MODIFIED:20260413T141325Z
UID:10007875-1776470400-1776643199@portedivaltellina.it
SUMMARY:Sano Festival
DESCRIPTION:Un viaggio in uno stile di vita più vicino alla natura \nAlimenti naturali a km0 e biologici\, cosmesi naturale e tante discipline olistiche da scoprire e testare. \nUn’area dedicata ai più piccoli con laboratori didattici pensati per imparare divertendosi. \nMusica dal vivo\, stand enogastronomici curati dai produttori locali per assaporare il meglio del territorio. \nIngresso libero \n\nSabato dalle 10.00 alle 22.30\nDomenica dalle 10.00 alle 18.00\n\nScarica QUI il programma \nClicca QUI per prenotare le attività e le esperienze \nMaggiori informazioni: morbegnofestival@gmail.com
URL:https://portedivaltellina.it/eventi/sano-festival/
LOCATION:Morbegno – Complesso Sant’Antonio\, Piazza S. Antonio
END:VEVENT
BEGIN:VEVENT
DTSTART;TZID=Europe/Rome:20260325T181500
DTEND;TZID=Europe/Rome:20260325T200000
DTSTAMP:20260423T210431
CREATED:20260320T104156Z
LAST-MODIFIED:20260320T104156Z
UID:10008008-1774462500-1774468800@portedivaltellina.it
SUMMARY:Olimpiadi e Paralimpiadi: risultati e prospettive
DESCRIPTION:Convegno Lions  \nIncontro con i protagonisti di Milano/Cortina 2026: autorità\, operatori\, atleti\, volontari. \nA seguire pizzoccheri\, divenuti famosi nel mondo\, serviti nel Chiostro \nIl ricavato sarà destinato a sostenere il servizio di cani guida Lions per persone non vedenti \n 
URL:https://portedivaltellina.it/eventi/olimpiadi-e-paralimpiadi-risultati-e-prospettive/
LOCATION:Morbegno – Complesso Sant’Antonio\, Piazza S. Antonio
END:VEVENT
BEGIN:VEVENT
DTSTART;TZID=Europe/Rome:20260314T180000
DTEND;TZID=Europe/Rome:20260314T203000
DTSTAMP:20260423T210431
CREATED:20260309T082603Z
LAST-MODIFIED:20260309T082603Z
UID:10007978-1773511200-1773520200@portedivaltellina.it
SUMMARY:Storie di donne
DESCRIPTION:Sul confine tra speranze e tragedie \ncon Mariella Londoni ed Evangelina Laini di Argonaute \nMaggiori informazioni: anpimorbegnobv@gmail.com
URL:https://portedivaltellina.it/eventi/storie-di-donne/
LOCATION:Morbegno – Complesso Sant’Antonio\, Piazza S. Antonio
END:VEVENT
BEGIN:VEVENT
DTSTART;VALUE=DATE:20251212
DTEND;VALUE=DATE:20251229
DTSTAMP:20260423T210431
CREATED:20251202T151733Z
LAST-MODIFIED:20251202T151733Z
UID:10007503-1765497600-1766966399@portedivaltellina.it
SUMMARY:Neve e identità
DESCRIPTION:Il secolo bianco della Valtellina \nCuratela Loredana Senna \nIn contemporanea con Ski Expression: una selezione di opere Anni ’90 da giovani talenti delle Accademie delle Belle Arti italiane. \nOrari di apertura: dal lunedì al venerdì dalle 14 alle 18\, sabato e domenica dalle 9 alle 12.30 e dalle 14.30 alle 18. \nIngresso gratuito
URL:https://portedivaltellina.it/eventi/neve-e-identita/
LOCATION:Morbegno – Complesso Sant’Antonio\, Piazza S. Antonio
END:VEVENT
BEGIN:VEVENT
DTSTART;VALUE=DATE:20251207
DTEND;VALUE=DATE:20251209
DTSTAMP:20260423T210431
CREATED:20251112T103313Z
LAST-MODIFIED:20251128T164208Z
UID:10006888-1765065600-1765238399@portedivaltellina.it
SUMMARY:Christmas Art
DESCRIPTION:I Mercatini di Natale a Morbegno \nTorna l’atteso appuntamento che unisce artigianato\, creatività e spirito natalizio in un’atmosfera unica nel suggestivo scenario del Complesso di Sant’Antonio. \nPROGRAMMA: \nDomenica 7 dalle 10:00 alle 22:00  \n\nOre 10:30 Inaugurazione con l’intrattenimento della Bandella\nOre 11:00 – 14.30 e 17.00 Laboratorio per adulti a cura di  Vivai Martinelli\,  su prenotazione\nDalle ore  10:30 alle 12:00 e dalle 14:00 alle 18:00 Laboratorio per bambini “Il natale nel bosco” a cura di Ecomuseo della Valgerola\nOre 16:00 Spettacolo teatrale “Senza renne non c’è Natale” ingresso € 6\,00 a cura del Teatro della zucca\nOre 20:30 Musiche e canti sotto l’albero\, concerto di violino con Giulia Barbera\n\nLunedì 8 dalle 10:00 alle 17:00  \n\nOre 10:00 – 11.30 – 15.00 Laboratorio per adulti a cura di  Vivai Martinelli\,  su prenotazione\nDalle ore 10:00 alle 12:00 e dalle 14:00 alle 16:30 Laboratorio per bambini “Il natale nel bosco” a cura di Ecomuseo della Valgerola\n\nInoltre durante l’apertura dei mercatini \n\nVillaggio di Babbo Natale con giochi\, balli\, tanta animazione\, sfide natalizie\,  incontro e foto con Babbo Natale\nTruccabimbi a cura della CRI di Morbegno\nMuseo del trenino a cura di EValtellina e Dopolavoro ferroviario\nLetterina a Babbo Natale\n\nINGRESSO LIBERO \nScopri QUI la locandina con il programma dettagliato e QUI il dettaglio dei laboratori \nMaggiori informazioni: infopoint@portedivaltellina.it – 0342 601140
URL:https://portedivaltellina.it/eventi/christmas-art/
LOCATION:Morbegno – Complesso Sant’Antonio\, Piazza S. Antonio
END:VEVENT
BEGIN:VEVENT
DTSTART;VALUE=DATE:20251110
DTEND;VALUE=DATE:20251117
DTSTAMP:20260423T210431
CREATED:20251029T094108Z
LAST-MODIFIED:20251107T080956Z
UID:10006853-1762732800-1763337599@portedivaltellina.it
SUMMARY:Settimana della gentilezza
DESCRIPTION:Riscopri il potere della gentilezza  \nUna settimana dedicata a seminare gentilezza verso noi stessi\, verso gli altri e verso l’ambiente \nUn progetto di educazione emotiva\, comunità e bellezza \n\nMostra interattiva\nconferenze\neventi\nlaboratori e attività creative per tutti\n\nNel weekend mercatino speciale \nIngresso libero \nScarica il programma tramite il QR code \nInfo: www.seminaregentilezza.it \n 
URL:https://portedivaltellina.it/eventi/settimana-della-gentilezza/
LOCATION:Morbegno – Complesso Sant’Antonio\, Piazza S. Antonio
ORGANIZER;CN="Evaltellina":MAILTO:info@evaltellina.com
END:VEVENT
END:VCALENDAR