BEGIN:VCALENDAR
VERSION:2.0
PRODID:-//Porte di Valtellina - ECPv6.15.20//NONSGML v1.0//EN
CALSCALE:GREGORIAN
METHOD:PUBLISH
X-ORIGINAL-URL:https://portedivaltellina.it
X-WR-CALDESC:Eventi per Porte di Valtellina
REFRESH-INTERVAL;VALUE=DURATION:PT1H
X-Robots-Tag:noindex
X-PUBLISHED-TTL:PT1H
BEGIN:VTIMEZONE
TZID:Europe/Rome
BEGIN:DAYLIGHT
TZOFFSETFROM:+0100
TZOFFSETTO:+0200
TZNAME:CEST
DTSTART:20240331T010000
END:DAYLIGHT
BEGIN:STANDARD
TZOFFSETFROM:+0200
TZOFFSETTO:+0100
TZNAME:CET
DTSTART:20241027T010000
END:STANDARD
BEGIN:DAYLIGHT
TZOFFSETFROM:+0100
TZOFFSETTO:+0200
TZNAME:CEST
DTSTART:20250330T010000
END:DAYLIGHT
BEGIN:STANDARD
TZOFFSETFROM:+0200
TZOFFSETTO:+0100
TZNAME:CET
DTSTART:20251026T010000
END:STANDARD
BEGIN:DAYLIGHT
TZOFFSETFROM:+0100
TZOFFSETTO:+0200
TZNAME:CEST
DTSTART:20260329T010000
END:DAYLIGHT
BEGIN:STANDARD
TZOFFSETFROM:+0200
TZOFFSETTO:+0100
TZNAME:CET
DTSTART:20261025T010000
END:STANDARD
BEGIN:DAYLIGHT
TZOFFSETFROM:+0100
TZOFFSETTO:+0200
TZNAME:CEST
DTSTART:20270328T010000
END:DAYLIGHT
BEGIN:STANDARD
TZOFFSETFROM:+0200
TZOFFSETTO:+0100
TZNAME:CET
DTSTART:20271031T010000
END:STANDARD
END:VTIMEZONE
BEGIN:VEVENT
DTSTART;TZID=Europe/Rome:20260307T210000
DTEND;TZID=Europe/Rome:20260307T230000
DTSTAMP:20260424T160749
CREATED:20260304T113944Z
LAST-MODIFIED:20260304T113944Z
UID:10007967-1772917200-1772924400@portedivaltellina.it
SUMMARY:Ricchi di guai
DESCRIPTION:Divertentissima commedia! \ncon la compagnia teatrale “I legnonesi” di Colico \nRegia M Franquelli \n 
URL:https://portedivaltellina.it/eventi/ricchi-di-guai/
LOCATION:Rogolo – Teatro San Carlo Borromeo\, Via Piazza\, 5
END:VEVENT
BEGIN:VEVENT
DTSTART;TZID=Europe/Rome:20250301T210000
DTEND;TZID=Europe/Rome:20250301T223000
DTSTAMP:20260424T160749
CREATED:20250224T114239Z
LAST-MODIFIED:20250224T114239Z
UID:10005854-1740862800-1740868200@portedivaltellina.it
SUMMARY:Una tranquilla famiglia
DESCRIPTION:Divertentissimo giallo-comico di M. Frenquelli \nPresentato dalla Compagnia Teatrale “I Legnonesi” di Colico. \n 
URL:https://portedivaltellina.it/eventi/una-tranquilla-famiglia/
LOCATION:Rogolo – Teatro San Carlo Borromeo\, Via Piazza\, 5
END:VEVENT
END:VCALENDAR