BEGIN:VCALENDAR
VERSION:2.0
PRODID:-//Porte di Valtellina - ECPv6.15.20//NONSGML v1.0//EN
CALSCALE:GREGORIAN
METHOD:PUBLISH
X-ORIGINAL-URL:https://portedivaltellina.it
X-WR-CALDESC:Eventi per Porte di Valtellina
REFRESH-INTERVAL;VALUE=DURATION:PT1H
X-Robots-Tag:noindex
X-PUBLISHED-TTL:PT1H
BEGIN:VTIMEZONE
TZID:Europe/Rome
BEGIN:DAYLIGHT
TZOFFSETFROM:+0100
TZOFFSETTO:+0200
TZNAME:CEST
DTSTART:20250330T010000
END:DAYLIGHT
BEGIN:STANDARD
TZOFFSETFROM:+0200
TZOFFSETTO:+0100
TZNAME:CET
DTSTART:20251026T010000
END:STANDARD
BEGIN:DAYLIGHT
TZOFFSETFROM:+0100
TZOFFSETTO:+0200
TZNAME:CEST
DTSTART:20260329T010000
END:DAYLIGHT
BEGIN:STANDARD
TZOFFSETFROM:+0200
TZOFFSETTO:+0100
TZNAME:CET
DTSTART:20261025T010000
END:STANDARD
BEGIN:DAYLIGHT
TZOFFSETFROM:+0100
TZOFFSETTO:+0200
TZNAME:CEST
DTSTART:20270328T010000
END:DAYLIGHT
BEGIN:STANDARD
TZOFFSETFROM:+0200
TZOFFSETTO:+0100
TZNAME:CET
DTSTART:20271031T010000
END:STANDARD
END:VTIMEZONE
BEGIN:VEVENT
DTSTART;TZID=Europe/Rome:20260113T080000
DTEND;TZID=Europe/Rome:20260113T170000
DTSTAMP:20260424T131115
CREATED:20260113T164447Z
LAST-MODIFIED:20260113T164447Z
UID:10007599-1768291200-1768323600@portedivaltellina.it
SUMMARY:Corsi di musica
DESCRIPTION:Scopri la magia della musica! \nSerata di presentazione dei corsi presso la sede della Filarmonica di Talamona \nImpara a suonare divertendoti. \nLa Filarmonica ti aspetta per un’avventura in musica \nIscrizioni entro il 23 gennaio 2026 \nInfo: Stefano 348 3937726
URL:https://portedivaltellina.it/eventi/corsi-di-musica/
LOCATION:Talamona – Società Filarmonica\, Via Don Giacinto Turazza\, 106
END:VEVENT
END:VCALENDAR