BEGIN:VCALENDAR
VERSION:2.0
PRODID:-//Porte di Valtellina - ECPv6.15.20//NONSGML v1.0//EN
CALSCALE:GREGORIAN
METHOD:PUBLISH
X-ORIGINAL-URL:https://portedivaltellina.it
X-WR-CALDESC:Eventi per Porte di Valtellina
REFRESH-INTERVAL;VALUE=DURATION:PT1H
X-Robots-Tag:noindex
X-PUBLISHED-TTL:PT1H
BEGIN:VTIMEZONE
TZID:Europe/Rome
BEGIN:DAYLIGHT
TZOFFSETFROM:+0100
TZOFFSETTO:+0200
TZNAME:CEST
DTSTART:20240331T010000
END:DAYLIGHT
BEGIN:STANDARD
TZOFFSETFROM:+0200
TZOFFSETTO:+0100
TZNAME:CET
DTSTART:20241027T010000
END:STANDARD
BEGIN:DAYLIGHT
TZOFFSETFROM:+0100
TZOFFSETTO:+0200
TZNAME:CEST
DTSTART:20250330T010000
END:DAYLIGHT
BEGIN:STANDARD
TZOFFSETFROM:+0200
TZOFFSETTO:+0100
TZNAME:CET
DTSTART:20251026T010000
END:STANDARD
BEGIN:DAYLIGHT
TZOFFSETFROM:+0100
TZOFFSETTO:+0200
TZNAME:CEST
DTSTART:20260329T010000
END:DAYLIGHT
BEGIN:STANDARD
TZOFFSETFROM:+0200
TZOFFSETTO:+0100
TZNAME:CET
DTSTART:20261025T010000
END:STANDARD
BEGIN:DAYLIGHT
TZOFFSETFROM:+0100
TZOFFSETTO:+0200
TZNAME:CEST
DTSTART:20270328T010000
END:DAYLIGHT
BEGIN:STANDARD
TZOFFSETFROM:+0200
TZOFFSETTO:+0100
TZNAME:CET
DTSTART:20271031T010000
END:STANDARD
END:VTIMEZONE
BEGIN:VEVENT
DTSTART;TZID=Europe/Rome:20260207T153000
DTEND;TZID=Europe/Rome:20260207T190000
DTSTAMP:20260422T113430
CREATED:20260110T081445Z
LAST-MODIFIED:20260110T081445Z
UID:10007593-1770478200-1770490800@portedivaltellina.it
SUMMARY:Indoor morbegnese
DESCRIPTION:Manifestazione di atletica \nper le categorie esordienti \nAlle ore 15.30 inizio gare \nInfo e iscrizioni: www.gscsimorbegno.org
URL:https://portedivaltellina.it/eventi/indoor-morbegnese-2/
LOCATION:Morbegno – Palestra S. Antonio
ORGANIZER;CN="GS CSI Morbegno":MAILTO:info@gscimorbegno.org
END:VEVENT
BEGIN:VEVENT
DTSTART;TZID=Europe/Rome:20260201T084500
DTEND;TZID=Europe/Rome:20260201T123000
DTSTAMP:20260422T113430
CREATED:20260110T080912Z
LAST-MODIFIED:20260110T080912Z
UID:10007592-1769935500-1769949000@portedivaltellina.it
SUMMARY:Cross della Bosca
DESCRIPTION:Corsa campestre \n2ª prova del 34° campionato regionale CSI di corsa campestre \n\nAlle ore 8.45 ritrovo al campo sportivo di Campovico\nAlle ore 10.00 inizio gare\n\nInfo e iscrizioni: www.gscsimorbegno.org 
URL:https://portedivaltellina.it/eventi/cross-della-bosca-2/
LOCATION:Morbegno – Fraz. Campovico
ORGANIZER;CN="GS CSI Morbegno":MAILTO:info@gscimorbegno.org
END:VEVENT
BEGIN:VEVENT
DTSTART;TZID=Europe/Rome:20260125T090000
DTEND;TZID=Europe/Rome:20260125T170000
DTSTAMP:20260422T113430
CREATED:20260120T073457Z
LAST-MODIFIED:20260120T073457Z
UID:10007617-1769331600-1769360400@portedivaltellina.it
SUMMARY:Tennis Tavolo
DESCRIPTION:2a prova \nCampionati nazionali 2026 – Fase territoriale \nMaggiori informazioni: info@gscsimorbegno.org – +39 340 4606881
URL:https://portedivaltellina.it/eventi/tennis-tavolo/
LOCATION:Morbegno – Palasport Mattei\, Piazza Aldo Moro
ORGANIZER;CN="GS CSI Morbegno":MAILTO:info@gscimorbegno.org
END:VEVENT
BEGIN:VEVENT
DTSTART;VALUE=DATE:20251231
DTEND;VALUE=DATE:20260101
DTSTAMP:20260422T113430
CREATED:20251229T160633Z
LAST-MODIFIED:20251229T160633Z
UID:10007579-1767139200-1767225599@portedivaltellina.it
SUMMARY:Scambio di auguri
DESCRIPTION:In cima alla Colmen \nRitrovo al cimitero di Dazio alle ore 8.30. Una salita in compagnia fino alla Cima Colmen\, dove attenderà un rinfresco con scambio di auguri per l’anno nuovo. \nSono invitati atleti\, famigliari e amici. Fino agli 8 anni obbligatorio essere accompagnati. \nIscrizioni a info@gscsimorbegno.org
URL:https://portedivaltellina.it/eventi/scambio-di-auguri/
LOCATION:Dazio
ORGANIZER;CN="GS CSI Morbegno":MAILTO:info@gscimorbegno.org
END:VEVENT
BEGIN:VEVENT
DTSTART;TZID=Europe/Rome:20251025T170000
DTEND;TZID=Europe/Rome:20251026T180000
DTSTAMP:20260422T113430
CREATED:20250924T140421Z
LAST-MODIFIED:20250925T082023Z
UID:10006747-1761411600-1761501600@portedivaltellina.it
SUMMARY:Trofeo Vanoni
DESCRIPTION:68° Trofeo Vanoni – 42° Vanoni Femminile – 48° Minivanoni \nTorna la storica gara internazionale di corsa in montagna a staffetta. \nPROGRAMMA: \nSabato 25 \n\nDalle ore 17.00 ritrovo in Piazza S. Antonio di tutte le nazione e atleti presenti\nAlle 17.30 sfilata al monumento dei caduti e deposizione corona\nAlle ore 18.00  S. Messa in Collegiata in suffragio.\n\n Domenica 26 \n\nDalle ore 7.30 consegna pettorali per il Minivanoni e alle 8.30 inizio gare\nAlle 10.30 partenza del 42° Vanoni femminile\nAlle ore 14.00 partenza del 68° trofeo Vanoni\nAlle ore 17.30 premiazioni in Piazza S. Antonio\n\nInfo e iscrizioni: www.trofeovanoni.it \n                                        
URL:https://portedivaltellina.it/eventi/trofeo-vanoni-2/
LOCATION:Morbegno
ORGANIZER;CN="GS CSI Morbegno":MAILTO:info@gscimorbegno.org
END:VEVENT
END:VCALENDAR