BEGIN:VCALENDAR
VERSION:2.0
PRODID:-//Porte di Valtellina - ECPv6.15.20//NONSGML v1.0//EN
CALSCALE:GREGORIAN
METHOD:PUBLISH
X-ORIGINAL-URL:https://portedivaltellina.it
X-WR-CALDESC:Eventi per Porte di Valtellina
REFRESH-INTERVAL;VALUE=DURATION:PT1H
X-Robots-Tag:noindex
X-PUBLISHED-TTL:PT1H
BEGIN:VTIMEZONE
TZID:Europe/Rome
BEGIN:DAYLIGHT
TZOFFSETFROM:+0100
TZOFFSETTO:+0200
TZNAME:CEST
DTSTART:20240331T010000
END:DAYLIGHT
BEGIN:STANDARD
TZOFFSETFROM:+0200
TZOFFSETTO:+0100
TZNAME:CET
DTSTART:20241027T010000
END:STANDARD
BEGIN:DAYLIGHT
TZOFFSETFROM:+0100
TZOFFSETTO:+0200
TZNAME:CEST
DTSTART:20250330T010000
END:DAYLIGHT
BEGIN:STANDARD
TZOFFSETFROM:+0200
TZOFFSETTO:+0100
TZNAME:CET
DTSTART:20251026T010000
END:STANDARD
BEGIN:DAYLIGHT
TZOFFSETFROM:+0100
TZOFFSETTO:+0200
TZNAME:CEST
DTSTART:20260329T010000
END:DAYLIGHT
BEGIN:STANDARD
TZOFFSETFROM:+0200
TZOFFSETTO:+0100
TZNAME:CET
DTSTART:20261025T010000
END:STANDARD
BEGIN:DAYLIGHT
TZOFFSETFROM:+0100
TZOFFSETTO:+0200
TZNAME:CEST
DTSTART:20270328T010000
END:DAYLIGHT
BEGIN:STANDARD
TZOFFSETFROM:+0200
TZOFFSETTO:+0100
TZNAME:CET
DTSTART:20271031T010000
END:STANDARD
END:VTIMEZONE
BEGIN:VEVENT
DTSTART;TZID=Europe/Rome:20260418T210000
DTEND;TZID=Europe/Rome:20260418T223000
DTSTAMP:20260422T222624
CREATED:20260312T103635Z
LAST-MODIFIED:20260312T103635Z
UID:10007994-1776546000-1776551400@portedivaltellina.it
SUMMARY:Il viaggio dei ricordi
DESCRIPTION:Concerto di Music & friends \nIngresso € 15\,00 \nl’incasso sarà devoluto a “Il coraggio Frida” a sostegno dei percorsi delle donne in fuoriuscita dalla violenza. \nInfo e prenotazioni: Deborah 333 9189374 – Silvia 347 1836976 – Mirella 340 7628134 \n  \n 
URL:https://portedivaltellina.it/eventi/il-viaggio-dei-ricordi/
LOCATION:Traona – Auditorium comunale\, PIazza Caduti\, 29\, Traona\, 23019
END:VEVENT
BEGIN:VEVENT
DTSTART;TZID=Europe/Rome:20251207T160000
DTEND;TZID=Europe/Rome:20251207T183000
DTSTAMP:20260422T222624
CREATED:20251128T083104Z
LAST-MODIFIED:20251128T083104Z
UID:10007484-1765123200-1765132200@portedivaltellina.it
SUMMARY:In-Canto di Natale
DESCRIPTION:Ingresso offerta a partire da €5\,00 \nIl biglietto da’ diritto di partecipazione ad una ricca lotteria per grandi e piccini. \nL’incasso sarà devoluto a sostegno dei progetti per i ragazzi della comunità pastorale di Cosio e Regoledo. \nInfo e prevendita: Silvia Tel. 3471836976 – Mirella Tel. 3407628134 \n  \n 
URL:https://portedivaltellina.it/eventi/in-canto-di-natale/
LOCATION:Cosio Valtellino – Teatro P.G. Frassati – Fraz. Regoledo\, Piazza S. Ambrogio\, 5
END:VEVENT
BEGIN:VEVENT
DTSTART;TZID=Europe/Rome:20251011T210000
DTEND;TZID=Europe/Rome:20251011T230000
DTSTAMP:20260422T222624
CREATED:20250924T100222Z
LAST-MODIFIED:20250924T100618Z
UID:10006746-1760216400-1760223600@portedivaltellina.it
SUMMARY:45 giri d’amore
DESCRIPTION:Concerto di Music & Friends \nIngresso € 10\,00  – € 5\,00 under 14 \nIl biglietto dà diritto ad una estrazione a premi. \nIl ricavato verrà devoluto all’opera missionaria di Padre Giboli in Mozambico. \nInfo e prevendite: Anna 328 3109781 – Agnese 340 5595330 – Fabio 342 3851185 – Mirella 340 7628134 \n 
URL:https://portedivaltellina.it/eventi/45-giri-damore-4/
LOCATION:Piantedo – Palestra comunale\, Via Europa\, 104
END:VEVENT
END:VCALENDAR