BEGIN:VCALENDAR
VERSION:2.0
PRODID:-//Porte di Valtellina - ECPv6.15.20//NONSGML v1.0//EN
CALSCALE:GREGORIAN
METHOD:PUBLISH
X-WR-CALNAME:Porte di Valtellina
X-ORIGINAL-URL:https://portedivaltellina.it
X-WR-CALDESC:Eventi per Porte di Valtellina
REFRESH-INTERVAL;VALUE=DURATION:PT1H
X-Robots-Tag:noindex
X-PUBLISHED-TTL:PT1H
BEGIN:VTIMEZONE
TZID:Europe/Rome
BEGIN:DAYLIGHT
TZOFFSETFROM:+0100
TZOFFSETTO:+0200
TZNAME:CEST
DTSTART:20240331T010000
END:DAYLIGHT
BEGIN:STANDARD
TZOFFSETFROM:+0200
TZOFFSETTO:+0100
TZNAME:CET
DTSTART:20241027T010000
END:STANDARD
BEGIN:DAYLIGHT
TZOFFSETFROM:+0100
TZOFFSETTO:+0200
TZNAME:CEST
DTSTART:20250330T010000
END:DAYLIGHT
BEGIN:STANDARD
TZOFFSETFROM:+0200
TZOFFSETTO:+0100
TZNAME:CET
DTSTART:20251026T010000
END:STANDARD
BEGIN:DAYLIGHT
TZOFFSETFROM:+0100
TZOFFSETTO:+0200
TZNAME:CEST
DTSTART:20260329T010000
END:DAYLIGHT
BEGIN:STANDARD
TZOFFSETFROM:+0200
TZOFFSETTO:+0100
TZNAME:CET
DTSTART:20261025T010000
END:STANDARD
END:VTIMEZONE
BEGIN:VEVENT
DTSTART;TZID=Europe/Rome:20251122T090000
DTEND;TZID=Europe/Rome:20251122T130000
DTSTAMP:20260424T012206
CREATED:20251121T101557Z
LAST-MODIFIED:20251121T101557Z
UID:10007462-1763802000-1763816400@portedivaltellina.it
SUMMARY:Diocesi di Como e Mafie
DESCRIPTION:Formazione sulle organizzazioni mafiose presenti nel territorio della diocesi di Como. \nLa Chiesa deve essere esempio di attenzione alle persone sfruttate\, vittime di ogni forma di schiavitù e sopruso. \nRelatori: \n\nNando dalla Chiesa: sociologo\, scrittore ed esperto di fenomenologia mafiosa.\nDavide Pati: membro della direzione nazionale di Libera Associazioni\, nomi e numeri contro le mafie.\nLorenzo Frigerio: giornalista\, scrittore e coordinatore di “Libera Informazione”.\n\nA conclusione dei lavori seguirà un pranzo condiviso. \nPer info: Don Diego Fognini e Don Giusto Della Valle  Tel.3667090468  –  Email. giustodellavalle@gmail.com
URL:https://portedivaltellina.it/eventi/diocesi-di-como-e-mafie/
LOCATION:Delebio – Oratorio
END:VEVENT
END:VCALENDAR