BEGIN:VCALENDAR
VERSION:2.0
PRODID:-//Porte di Valtellina - ECPv6.15.20//NONSGML v1.0//EN
CALSCALE:GREGORIAN
METHOD:PUBLISH
X-WR-CALNAME:Porte di Valtellina
X-ORIGINAL-URL:https://portedivaltellina.it
X-WR-CALDESC:Eventi per Porte di Valtellina
REFRESH-INTERVAL;VALUE=DURATION:PT1H
X-Robots-Tag:noindex
X-PUBLISHED-TTL:PT1H
BEGIN:VTIMEZONE
TZID:Europe/Rome
BEGIN:DAYLIGHT
TZOFFSETFROM:+0100
TZOFFSETTO:+0200
TZNAME:CEST
DTSTART:20240331T010000
END:DAYLIGHT
BEGIN:STANDARD
TZOFFSETFROM:+0200
TZOFFSETTO:+0100
TZNAME:CET
DTSTART:20241027T010000
END:STANDARD
BEGIN:DAYLIGHT
TZOFFSETFROM:+0100
TZOFFSETTO:+0200
TZNAME:CEST
DTSTART:20250330T010000
END:DAYLIGHT
BEGIN:STANDARD
TZOFFSETFROM:+0200
TZOFFSETTO:+0100
TZNAME:CET
DTSTART:20251026T010000
END:STANDARD
BEGIN:DAYLIGHT
TZOFFSETFROM:+0100
TZOFFSETTO:+0200
TZNAME:CEST
DTSTART:20260329T010000
END:DAYLIGHT
BEGIN:STANDARD
TZOFFSETFROM:+0200
TZOFFSETTO:+0100
TZNAME:CET
DTSTART:20261025T010000
END:STANDARD
END:VTIMEZONE
BEGIN:VEVENT
DTSTART;TZID=Europe/Rome:20251209T163000
DTEND;TZID=Europe/Rome:20251209T180000
DTSTAMP:20260424T035903
CREATED:20251128T105234Z
LAST-MODIFIED:20251128T105234Z
UID:10007488-1765297800-1765303200@portedivaltellina.it
SUMMARY:Sviluppo Rurale Lombardia
DESCRIPTION:Webinar 9 dicembre 2025 dalle ore 16:30 alle 18:00. \nAgricoltura di precisione: soluzioni applicabili all’olivicoltura in territorio montano. \nTecniche di monitoraggio\, esperienze con l’uso di droni e strategie per l’olivicoltura valtellinese. \nIntervengono:  \n\nMartino Salvetti\, Fontazione Fojanini di Studi Superiori\nGiovanni Minuto\, Centro di Sperimentazione e Assistenza Agricola (CeRSAA)\n\nModera: Matteo Zucchini\, Redazione Olivo e Olio. \nProgetto OLInVAL: Strategie informative per una olivicoltura di qualità in Valtellina.
URL:https://portedivaltellina.it/eventi/sviluppo-rurale-lombardia/
END:VEVENT
END:VCALENDAR